BEGIN:VCALENDAR
VERSION:2.0
PRODID:-//166.62.108.43//NONSGML kigkonsult.se iCalcreator 2.20//
CALSCALE:GREGORIAN
METHOD:PUBLISH
X-WR-CALNAME:Adelaide Ferment
X-WR-CALDESC:Amateur Winemakers and Brewers Club of Adelaide (AWBCA)
X-FROM-URL:http://awbca.org.au
X-WR-TIMEZONE:Australia/Adelaide
BEGIN:VTIMEZONE
TZID:Australia/Adelaide
X-LIC-LOCATION:Australia/Adelaide
BEGIN:STANDARD
DTSTART:20190407T030000
TZOFFSETFROM:+1030
TZOFFSETTO:+0930
TZNAME:ACST
END:STANDARD
BEGIN:DAYLIGHT
DTSTART:20181007T020000
TZOFFSETFROM:+0930
TZOFFSETTO:+1030
TZNAME:ACDT
END:DAYLIGHT
END:VTIMEZONE
BEGIN:VEVENT
UID:20160318T012251Z-1957720429@marudot.com
DTSTAMP:20190228T093155Z
CATEGORIES:
CONTACT:
DESCRIPTION:Competition:\n– Beer: None\n– Wine: Fruit\, Vegetable\, Herbal\
 , Flower\, Cereal & Leaf Wines\nDiscussion/workshop/speaker: Wine
DTSTART;TZID=Australia/Adelaide:20170404T200000
DTEND;TZID=Australia/Adelaide:20170404T223000
LOCATION:Clarence Park Community Centre\, corner of East Ave and Canterbury
  Tce\, Black Forest
SEQUENCE:0
SUMMARY:April Club Meeting
URL:http://awbca.org.au/event/april-club-meeting/
X-ALT-DESC;FMTTYPE=text/html:<!DOCTYPE HTML PUBLIC '-//W3C//DTD HTML 3.2//E
 N'>\\n<HTML>\\n<HEAD>\\n<TITLE></TITLE>\\n</HEAD>\\n<BODY><p>Competition:<
 br />\n– Beer: None<br />\n– Wine: Fruit\, Vegetable\, Herbal\, Flower\, C
 ereal & Leaf Wines</p>\n<p>Discussion/workshop/speaker: Wine</p>\n</BODY><
 /HTML>
END:VEVENT
END:VCALENDAR
