BEGIN:VCALENDAR
VERSION:2.0
PRODID:-//166.62.108.43//NONSGML kigkonsult.se iCalcreator 2.20//
CALSCALE:GREGORIAN
METHOD:PUBLISH
X-WR-CALNAME:Adelaide Ferment
X-WR-CALDESC:Amateur Winemakers and Brewers Club of Adelaide (AWBCA)
X-FROM-URL:http://awbca.org.au
X-WR-TIMEZONE:Australia/Adelaide
BEGIN:VTIMEZONE
TZID:Australia/Adelaide
X-LIC-LOCATION:Australia/Adelaide
BEGIN:STANDARD
DTSTART:20190407T030000
TZOFFSETFROM:+1030
TZOFFSETTO:+0930
TZNAME:ACST
END:STANDARD
BEGIN:DAYLIGHT
DTSTART:20181007T020000
TZOFFSETFROM:+0930
TZOFFSETTO:+1030
TZNAME:ACDT
END:DAYLIGHT
END:VTIMEZONE
BEGIN:VEVENT
UID:ai1ec-485@awbca.org.au
DTSTAMP:20190228T093503Z
CATEGORIES:
CONTACT:BWBC\; (08) 8278 6227\; bwbc@bwbc.org.au\; http://bwbc.org.au
DESCRIPTION:
DTSTART;TZID=Australia/Adelaide:20170719T193000
DTEND;TZID=Australia/Adelaide:20170719T220000
GEO:-34.960691;+138.580846
LOCATION:Blackwood Winmakers and Brewers Club @ 27 Coromandel Parade\, Blac
 kwood
SEQUENCE:0
SUMMARY:Inter-club Wine Competition
URL:http://awbca.org.au/event/inter-club-wine-competition-blackwood/
X-COST-TYPE:free
END:VEVENT
END:VCALENDAR
