BEGIN:VCALENDAR
VERSION:2.0
PRODID:-//166.62.108.43//NONSGML kigkonsult.se iCalcreator 2.20//
CALSCALE:GREGORIAN
METHOD:PUBLISH
X-WR-CALNAME:Adelaide Ferment
X-WR-CALDESC:Amateur Winemakers and Brewers Club of Adelaide (AWBCA)
X-FROM-URL:http://awbca.org.au
X-WR-TIMEZONE:Australia/Adelaide
BEGIN:VTIMEZONE
TZID:Australia/Adelaide
X-LIC-LOCATION:Australia/Adelaide
BEGIN:STANDARD
DTSTART:20190407T030000
TZOFFSETFROM:+1030
TZOFFSETTO:+0930
TZNAME:ACST
END:STANDARD
BEGIN:DAYLIGHT
DTSTART:20181007T020000
TZOFFSETFROM:+0930
TZOFFSETTO:+1030
TZNAME:ACDT
END:DAYLIGHT
END:VTIMEZONE
BEGIN:VEVENT
UID:ai1ec-481@awbca.org.au
DTSTAMP:20190228T093840Z
CATEGORIES:
CONTACT:Secretary\; secretary@awbca.org.au
DESCRIPTION:TBA
DTSTART;TZID=Australia/Adelaide:20180114T120000
DTEND;TZID=Australia/Adelaide:20180114T160000
GEO:-34.877204;+138.688385
LOCATION:Thorndon Park Reserve @ Gorge Rd & Hamilton Terrace\, Newton SA 50
 74\, Australia
SEQUENCE:0
SUMMARY:Club BBQ
URL:http://awbca.org.au/event/club-bbq/
X-COST-TYPE:free
X-ALT-DESC;FMTTYPE=text/html:<!DOCTYPE HTML PUBLIC '-//W3C//DTD HTML 3.2//E
 N'>\\n<HTML>\\n<HEAD>\\n<TITLE></TITLE>\\n</HEAD>\\n<BODY><p>TBA</p>\n</BO
 DY></HTML>
END:VEVENT
END:VCALENDAR
