BEGIN:VCALENDAR
VERSION:2.0
PRODID:-//166.62.108.43//NONSGML kigkonsult.se iCalcreator 2.20//
CALSCALE:GREGORIAN
METHOD:PUBLISH
X-WR-CALNAME:Adelaide Ferment
X-WR-CALDESC:Amateur Winemakers and Brewers Club of Adelaide (AWBCA)
X-FROM-URL:http://awbca.org.au
X-WR-TIMEZONE:Australia/Adelaide
BEGIN:VTIMEZONE
TZID:Australia/Adelaide
X-LIC-LOCATION:Australia/Adelaide
BEGIN:STANDARD
DTSTART:20190407T030000
TZOFFSETFROM:+1030
TZOFFSETTO:+0930
TZNAME:ACST
END:STANDARD
BEGIN:DAYLIGHT
DTSTART:20181007T020000
TZOFFSETFROM:+0930
TZOFFSETTO:+1030
TZNAME:ACDT
END:DAYLIGHT
END:VTIMEZONE
BEGIN:VEVENT
UID:ai1ec-480@awbca.org.au
DTSTAMP:20190228T093319Z
CATEGORIES:
CONTACT:Secretary\; secretary@awbca.org.au\; http://awbca.org.au
DESCRIPTION:
DTSTART;TZID=Australia/Adelaide:20170507T110000
DTEND;TZID=Australia/Adelaide:20170507T163000
GEO:-34.956136;+138.727924
LOCATION:Summertown Apple Orchard @ Tregarthen Rd\, Summertown SA 5141\, Au
 stralia
SEQUENCE:0
SUMMARY:Summertown Apple Crush
URL:http://awbca.org.au/event/summertown-apple-crush/
X-COST-TYPE:free
END:VEVENT
END:VCALENDAR
