BEGIN:VCALENDAR
VERSION:2.0
PRODID:-//166.62.108.43//NONSGML kigkonsult.se iCalcreator 2.20//
CALSCALE:GREGORIAN
METHOD:PUBLISH
X-WR-CALNAME:Adelaide Ferment
X-WR-CALDESC:Amateur Winemakers and Brewers Club of Adelaide (AWBCA)
X-FROM-URL:http://awbca.org.au
X-WR-TIMEZONE:Australia/Adelaide
BEGIN:VTIMEZONE
TZID:Australia/Adelaide
X-LIC-LOCATION:Australia/Adelaide
BEGIN:STANDARD
DTSTART:20190407T030000
TZOFFSETFROM:+1030
TZOFFSETTO:+0930
TZNAME:ACST
END:STANDARD
BEGIN:DAYLIGHT
DTSTART:20181007T020000
TZOFFSETFROM:+0930
TZOFFSETTO:+1030
TZNAME:ACDT
END:DAYLIGHT
END:VTIMEZONE
BEGIN:VEVENT
UID:ai1ec-476@awbca.org.au
DTSTAMP:20190228T093803Z
CATEGORIES:
CONTACT:Secretary\; secretary@awbca.org.au\; http://awbca.org.au
DESCRIPTION:<p>Discussion/workshop/speaker:<br />\n– Wine</p>\n<p>Competiti
 on:<br />\n– Beer: Pilsner\, Lager & Summer Ale (Certificate)<br />\n– Win
 e: Sparkling White (Graham Stallard Trophy) & Sparkling Red (Certificate)<
 /p>\n<p>Supper:<br />\n– Chicken Supper</p>
DTSTART;TZID=Australia/Adelaide:20171205T200000
DTEND;TZID=Australia/Adelaide:20171205T223000
GEO:-34.960691;+138.580846
LOCATION:Clarence Park Community Centre @ 72-74 East Ave\, Black Forest SA 
 5035\, Australia
SEQUENCE:0
SUMMARY:General Meeting
URL:http://awbca.org.au/event/general-meeting-7/
X-COST-TYPE:free
END:VEVENT
END:VCALENDAR
