BEGIN:VCALENDAR
VERSION:2.0
PRODID:-//166.62.108.43//NONSGML kigkonsult.se iCalcreator 2.20//
CALSCALE:GREGORIAN
METHOD:PUBLISH
X-WR-CALNAME:Adelaide Ferment
X-WR-CALDESC:Amateur Winemakers and Brewers Club of Adelaide (AWBCA)
X-FROM-URL:http://awbca.org.au
X-WR-TIMEZONE:Australia/Adelaide
BEGIN:VTIMEZONE
TZID:Australia/Adelaide
X-LIC-LOCATION:Australia/Adelaide
BEGIN:STANDARD
DTSTART:20190407T030000
TZOFFSETFROM:+1030
TZOFFSETTO:+0930
TZNAME:ACST
END:STANDARD
BEGIN:DAYLIGHT
DTSTART:20181007T020000
TZOFFSETFROM:+0930
TZOFFSETTO:+1030
TZNAME:ACDT
END:DAYLIGHT
END:VTIMEZONE
BEGIN:VEVENT
UID:ai1ec-474@awbca.org.au
DTSTAMP:20190228T093622Z
CATEGORIES:
CONTACT:Secretary\; secretary@awbca.org.au\; http://awbca.org.au
DESCRIPTION:Discussion/workshop/speaker:\n– Wine\nCompetition:\n– Beer: Ale
  (Certificate)\n– Wine: CV Dry White Wine. (AWBCA Certificate) & Mature Dr
 y White wine (Fretwell Trophy)\nSupper:\n– Oyster Supper ($5 for members\,
  $10 otherwise)
DTSTART;TZID=Australia/Adelaide:20171003T200000
DTEND;TZID=Australia/Adelaide:20171003T223000
GEO:-34.960691;+138.580846
LOCATION:Clarence Park Community Centre @ 72-74 East Ave\, Black Forest SA 
 5035\, Australia
SEQUENCE:0
SUMMARY:General Meeting
URL:http://awbca.org.au/event/general-meeting-5/
X-COST-TYPE:free
X-ALT-DESC;FMTTYPE=text/html:<!DOCTYPE HTML PUBLIC '-//W3C//DTD HTML 3.2//E
 N'>\\n<HTML>\\n<HEAD>\\n<TITLE></TITLE>\\n</HEAD>\\n<BODY><p>Discussion/wo
 rkshop/speaker:<br />\n– Wine</p>\n<p>Competition:<br />\n– Beer: Ale (Cer
 tificate)<br />\n– Wine: CV Dry White Wine. (AWBCA Certificate) & Mature D
 ry White wine (Fretwell Trophy)</p>\n<p>Supper:<br />\n– Oyster Supper ($5
  for members\, $10 otherwise)</p>\n</BODY></HTML>
END:VEVENT
END:VCALENDAR
